BEGIN:VCALENDAR
VERSION:2.0
PRODID:-//Reit- und Therapiestall Meeschhaff - ECPv4.9.14//NONSGML v1.0//EN
CALSCALE:GREGORIAN
METHOD:PUBLISH
X-WR-CALNAME:Reit- und Therapiestall Meeschhaff
X-ORIGINAL-URL:http://meeschhaff.lu
X-WR-CALDESC:Events for Reit- und Therapiestall Meeschhaff
BEGIN:VTIMEZONE
TZID:Europe/Brussels
BEGIN:DAYLIGHT
TZOFFSETFROM:+0100
TZOFFSETTO:+0200
TZNAME:CEST
DTSTART:20160327T010000
END:DAYLIGHT
BEGIN:STANDARD
TZOFFSETFROM:+0200
TZOFFSETTO:+0100
TZNAME:CET
DTSTART:20161030T010000
END:STANDARD
END:VTIMEZONE
BEGIN:VEVENT
DTSTART;VALUE=DATE:20160908
DTEND;VALUE=DATE:20160912
DTSTAMP:20200812T062055
CREATED:20160314T191052Z
LAST-MODIFIED:20160314T191123Z
UID:6127-1473292800-1473638399@meeschhaff.lu
SUMMARY:Jumping Tournament in Bouferterhaff
DESCRIPTION:
URL:http://meeschhaff.lu/event/jumping-tournament-in-bouferterhaff/
LOCATION:LANDESMEISTERSCHAFT Springturnier Bouferterhaff\, Bouferterhaff\, Luxembourg
CATEGORIES:jumping,tournament
ORGANIZER;CN="CRL":MAILTO:info@crl.lu
END:VEVENT
END:VCALENDAR