BEGIN:VCALENDAR
VERSION:2.0
PRODID:-//Reit- und Therapiestall Meeschhaff - ECPv4.9.14//NONSGML v1.0//EN
CALSCALE:GREGORIAN
METHOD:PUBLISH
X-WR-CALNAME:Reit- und Therapiestall Meeschhaff
X-ORIGINAL-URL:http://meeschhaff.lu
X-WR-CALDESC:Events for Reit- und Therapiestall Meeschhaff
BEGIN:VTIMEZONE
TZID:Europe/Brussels
BEGIN:DAYLIGHT
TZOFFSETFROM:+0100
TZOFFSETTO:+0200
TZNAME:CEST
DTSTART:20160327T010000
END:DAYLIGHT
BEGIN:STANDARD
TZOFFSETFROM:+0200
TZOFFSETTO:+0100
TZNAME:CET
DTSTART:20161030T010000
END:STANDARD
END:VTIMEZONE
BEGIN:VEVENT
DTSTART;VALUE=DATE:20160526
DTEND;VALUE=DATE:20160530
DTSTAMP:20200812T061722
CREATED:20160314T182125Z
LAST-MODIFIED:20160314T190521Z
UID:6108-1464220800-1464566399@meeschhaff.lu
SUMMARY:Jumping Tournament at Saarburg (Germany)
DESCRIPTION:Jumping Tournament at Saarburg (Germany) \n
URL:http://meeschhaff.lu/event/jumping-tournament-at-saarburg-germany/
LOCATION:Concours Saarburg\, Saarburg\, Germany
CATEGORIES:jumping,tournament
ORGANIZER;CN="Reit-%20und%20Therapiestall%20Meeschhaff":MAILTO:tania9594@hotmail.com
END:VEVENT
END:VCALENDAR