BEGIN:VCALENDAR
VERSION:2.0
PRODID:-//Reit- und Therapiestall Meeschhaff - ECPv4.9.14//NONSGML v1.0//EN
CALSCALE:GREGORIAN
METHOD:PUBLISH
X-WR-CALNAME:Reit- und Therapiestall Meeschhaff
X-ORIGINAL-URL:http://meeschhaff.lu
X-WR-CALDESC:Events for Reit- und Therapiestall Meeschhaff
BEGIN:VTIMEZONE
TZID:Europe/Brussels
BEGIN:DAYLIGHT
TZOFFSETFROM:+0100
TZOFFSETTO:+0200
TZNAME:CEST
DTSTART:20160327T010000
END:DAYLIGHT
BEGIN:STANDARD
TZOFFSETFROM:+0200
TZOFFSETTO:+0100
TZNAME:CET
DTSTART:20161030T010000
END:STANDARD
END:VTIMEZONE
BEGIN:VEVENT
DTSTART;VALUE=DATE:20160514
DTEND;VALUE=DATE:20160515
DTSTAMP:20200812T061629
CREATED:20160314T181640Z
LAST-MODIFIED:20160314T190527Z
UID:6107-1463184000-1463270399@meeschhaff.lu
SUMMARY:Jumping Tournament at Losheim (Germany)
DESCRIPTION:Jumping Tournament at Losheim (Germany) \n
URL:http://meeschhaff.lu/event/jumping-tournament-at-losheim-germany/
LOCATION:Concours à Losheim\, Losheim\, Germany
CATEGORIES:jumping,tournament
ORGANIZER;CN="Reit-%20und%20Therapiestall%20Meeschhaff":MAILTO:tania9594@hotmail.com
END:VEVENT
END:VCALENDAR