BEGIN:VCALENDAR
VERSION:2.0
PRODID:-//Reit- und Therapiestall Meeschhaff - ECPv4.9.14//NONSGML v1.0//EN
CALSCALE:GREGORIAN
METHOD:PUBLISH
X-WR-CALNAME:Reit- und Therapiestall Meeschhaff
X-ORIGINAL-URL:http://meeschhaff.lu
X-WR-CALDESC:Events for Reit- und Therapiestall Meeschhaff
BEGIN:VTIMEZONE
TZID:Europe/Brussels
BEGIN:DAYLIGHT
TZOFFSETFROM:+0100
TZOFFSETTO:+0200
TZNAME:CEST
DTSTART:20160327T010000
END:DAYLIGHT
BEGIN:STANDARD
TZOFFSETFROM:+0200
TZOFFSETTO:+0100
TZNAME:CET
DTSTART:20161030T010000
END:STANDARD
END:VTIMEZONE
BEGIN:VEVENT
DTSTART;VALUE=DATE:20160505
DTEND;VALUE=DATE:20160506
DTSTAMP:20200812T062528
CREATED:20160314T181305Z
LAST-MODIFIED:20160314T190540Z
UID:6103-1462406400-1462492799@meeschhaff.lu
SUMMARY:Jumping Tournament at Feelenerhecken
DESCRIPTION:Jumping Tournament at Feelenerhecken \n
URL:http://meeschhaff.lu/event/jumping-tournament-at-feelenerhecken/
LOCATION:Springturnier Feelenerhecken\, Feelenerhecken\, Luxembourg
CATEGORIES:jumping,tournament
ORGANIZER;CN="CHN":MAILTO:info@chn.lu
END:VEVENT
END:VCALENDAR