BEGIN:VCALENDAR
VERSION:2.0
PRODID:-//Reit- und Therapiestall Meeschhaff - ECPv4.9.14//NONSGML v1.0//EN
CALSCALE:GREGORIAN
METHOD:PUBLISH
X-WR-CALNAME:Reit- und Therapiestall Meeschhaff
X-ORIGINAL-URL:http://meeschhaff.lu
X-WR-CALDESC:Events for Reit- und Therapiestall Meeschhaff
BEGIN:VTIMEZONE
TZID:Europe/Brussels
BEGIN:DAYLIGHT
TZOFFSETFROM:+0100
TZOFFSETTO:+0200
TZNAME:CEST
DTSTART:20160327T010000
END:DAYLIGHT
BEGIN:STANDARD
TZOFFSETFROM:+0200
TZOFFSETTO:+0100
TZNAME:CET
DTSTART:20161030T010000
END:STANDARD
END:VTIMEZONE
BEGIN:VEVENT
DTSTART;VALUE=DATE:20160416
DTEND;VALUE=DATE:20160418
DTSTAMP:20200812T062244
CREATED:20160314T154721Z
LAST-MODIFIED:20160314T190657Z
UID:6088-1460764800-1460937599@meeschhaff.lu
SUMMARY:Jumping Competition in Roost
DESCRIPTION:More info on this event can be found here. \n
URL:http://meeschhaff.lu/event/jumping-competition-roost/
LOCATION:Concours de saut à Roost\, Roost\, Luxembourg
CATEGORIES:jumping,tournament
ORGANIZER;CN="CRL":MAILTO:info@crl.lu
END:VEVENT
END:VCALENDAR