BEGIN:VCALENDAR
VERSION:2.0
PRODID:-//Reit- und Therapiestall Meeschhaff - ECPv4.9.14//NONSGML v1.0//EN
CALSCALE:GREGORIAN
METHOD:PUBLISH
X-WR-CALNAME:Reit- und Therapiestall Meeschhaff
X-ORIGINAL-URL:http://meeschhaff.lu
X-WR-CALDESC:Events for Reit- und Therapiestall Meeschhaff
BEGIN:VTIMEZONE
TZID:Europe/Brussels
BEGIN:DAYLIGHT
TZOFFSETFROM:+0100
TZOFFSETTO:+0200
TZNAME:CEST
DTSTART:20160327T010000
END:DAYLIGHT
BEGIN:STANDARD
TZOFFSETFROM:+0200
TZOFFSETTO:+0100
TZNAME:CET
DTSTART:20161030T010000
END:STANDARD
END:VTIMEZONE
BEGIN:VEVENT
DTSTART;VALUE=DATE:20160702
DTEND;VALUE=DATE:20160704
DTSTAMP:20200812T061846
CREATED:20160314T184709Z
LAST-MODIFIED:20160314T190500Z
UID:6116-1467417600-1467590399@meeschhaff.lu
SUMMARY:Jumping Competition in Gralingen
DESCRIPTION:Jumping Competition in Gralingen \n
URL:http://meeschhaff.lu/event/jumping-competition-in-gralingen/
LOCATION:Springturnier Gralingen\, Gralingen\, Luxembourg
CATEGORIES:jumping,tournament
ORGANIZER;CN="R.U.sT":MAILTO:vivanita@pt.lu
END:VEVENT
END:VCALENDAR