BEGIN:VCALENDAR
VERSION:2.0
PRODID:-//Reit- und Therapiestall Meeschhaff - ECPv4.9.14//NONSGML v1.0//EN
CALSCALE:GREGORIAN
METHOD:PUBLISH
X-WR-CALNAME:Reit- und Therapiestall Meeschhaff
X-ORIGINAL-URL:http://meeschhaff.lu
X-WR-CALDESC:Events for Reit- und Therapiestall Meeschhaff
BEGIN:VTIMEZONE
TZID:Europe/Brussels
BEGIN:DAYLIGHT
TZOFFSETFROM:+0100
TZOFFSETTO:+0200
TZNAME:CEST
DTSTART:20160327T010000
END:DAYLIGHT
BEGIN:STANDARD
TZOFFSETFROM:+0200
TZOFFSETTO:+0100
TZNAME:CET
DTSTART:20161030T010000
END:STANDARD
END:VTIMEZONE
BEGIN:VEVENT
DTSTART;VALUE=DATE:20160826
DTEND;VALUE=DATE:20160829
DTSTAMP:20200812T062008
CREATED:20160314T190306Z
LAST-MODIFIED:20160314T190432Z
UID:6125-1472169600-1472428799@meeschhaff.lu
SUMMARY:Jumping and Dressage Tournament in Leudelange
DESCRIPTION:Jumping and Dressage Tournament in Leudelange \n
URL:http://meeschhaff.lu/event/jumping-and-dressage-tournament-in-leudelange/
LOCATION:Spring- und Dressurturnier Leudelange\, Leudelange\, Luxembourg
CATEGORIES:dressage,jumping,tournament
END:VEVENT
END:VCALENDAR