BEGIN:VCALENDAR
VERSION:2.0
PRODID:-//Reit- und Therapiestall Meeschhaff - ECPv4.9.14//NONSGML v1.0//EN
CALSCALE:GREGORIAN
METHOD:PUBLISH
X-WR-CALNAME:Reit- und Therapiestall Meeschhaff
X-ORIGINAL-URL:http://meeschhaff.lu
X-WR-CALDESC:Events for Reit- und Therapiestall Meeschhaff
BEGIN:VTIMEZONE
TZID:Europe/Brussels
BEGIN:DAYLIGHT
TZOFFSETFROM:+0100
TZOFFSETTO:+0200
TZNAME:CEST
DTSTART:20160327T010000
END:DAYLIGHT
BEGIN:STANDARD
TZOFFSETFROM:+0200
TZOFFSETTO:+0100
TZNAME:CET
DTSTART:20161030T010000
END:STANDARD
END:VTIMEZONE
BEGIN:VEVENT
DTSTART;VALUE=DATE:20160422
DTEND;VALUE=DATE:20160425
DTSTAMP:20200812T062303
CREATED:20160314T174935Z
LAST-MODIFIED:20160314T175814Z
UID:6098-1461283200-1461542399@meeschhaff.lu
SUMMARY:Jump training with Elmar Vinkelau
DESCRIPTION:Jump training with Elmar Vinkelau in Weiswampach \n
URL:http://meeschhaff.lu/event/jump-training-with-elmar-vinkelau/
LOCATION:Springlehrgang mit Elmar Vinkelau in Weiswampach\, Weiswampach\, Luxembourg
CATEGORIES:jumping,training
ORGANIZER;CN="Reit-%20und%20Therapiestall%20Meeschhaff":MAILTO:tania9594@hotmail.com
END:VEVENT
END:VCALENDAR